BEGIN:VCALENDAR
VERSION:2.0
PRODID:-//Library Market//iCal Export//EN
BEGIN:VEVENT
SUMMARY:UFCW (United Food Commerce Workers) Local 20-3D
UID:45163
DTSTAMP:20260424T060400Z
DTSTART:20260501T140000Z
DTEND:20260501T160000Z
LOCATION:Main Library, 201 Cathedral Manor, Bardstown, KY 40004, United St
 ates
ROOM: Main Branch - Community Room #2
DESCRIPTION:
URL:https://www.ncplky.org/event/ufcw-united-food-commerce-workers-local-2
 0-3d-45163
END:VEVENT
END:VCALENDAR
