BEGIN:VCALENDAR
VERSION:2.0
PRODID:-//Library Market//iCal Export//EN
BEGIN:VEVENT
SUMMARY:Bridgepoint Estates HOA
UID:45159
DTSTAMP:20260422T075400Z
DTSTART:20260604T220000Z
DTEND:20260605T000000Z
LOCATION:Main Library, 201 Cathedral Manor, Bardstown, KY 40004, United St
 ates
ROOM: Main Branch Community Room #1
DESCRIPTION:
URL:https://www.ncplky.org/event/bridgepoint-estates-hoa-45159
END:VEVENT
END:VCALENDAR
