BEGIN:VCALENDAR
VERSION:2.0
PRODID:-//Library Market//iCal Export//EN
BEGIN:VEVENT
SUMMARY:Travel Kentucky: Historical Destinations &amp; Natural Wonders
UID:45158
DTSTAMP:20260422T041900Z
DTSTART:20260511T210000Z
DTEND:20260511T220000Z
LOCATION:New Haven Branch, 318 Center Street, New Haven, KY 40051, United 
 States
ROOM: New Haven - Community Room
DESCRIPTION:There’s always something new to discover exploring your own 
 backyard. Join us on Monday, May 11th, at 5 pm at the NCPL New Haven Branc
 h to welcome Kentucky Humanities: Our American Story: Kentucky’s Voices 
 presenter and Kentucky writer Blair Thomas Hess as she highlights fun and 
 educational destinations to help Kentuckians of all ages explore the amazi
 ng and irreplaceable things that make the state one of a kind. This talk t
 ravels the parkways, byways, and backroads of the Bluegrass State and outl
 ines some of Kentucky&#039;s most famous historical destinations and natur
 al wonders, as well as some of her best kept secrets. The program is funde
 d in part by Kentucky Humanities and the National Endowment for the Humani
 ties.
URL:https://www.ncplky.org/event/travel-kentucky-historical-destinations-n
 atural-wonders-45158
END:VEVENT
END:VCALENDAR
