BEGIN:VCALENDAR
VERSION:2.0
PRODID:-//Library Market//iCal Export//EN
BEGIN:VEVENT
SUMMARY:NCHS Commuinty Game Tournament- Gaming for Heroes
UID:45152
DTSTAMP:20260421T012600Z
DTSTART:20261107T150000Z
DTEND:20261108T020000Z
LOCATION:Main Library, 201 Cathedral Manor, Bardstown, KY 40004, United St
 ates
ROOM: Main Branch - Community Room #2
DESCRIPTION:
URL:https://www.ncplky.org/event/nchs-commuinty-game-tournament-gaming-her
 oes-45152
END:VEVENT
END:VCALENDAR
