BEGIN:VCALENDAR
VERSION:2.0
PRODID:-//Library Market//iCal Export//EN
BEGIN:VEVENT
SUMMARY:SYB Financial Literacy
UID:45140
DTSTAMP:20260420T041100Z
DTSTART:20260428T130000Z
DTEND:20260428T150000Z
LOCATION:Main Library, 201 Cathedral Manor, Bardstown, KY 40004, United St
 ates
ROOM: Main Branch Community Room #1
DESCRIPTION:
URL:https://www.ncplky.org/event/syb-financial-literacy-45140
END:VEVENT
END:VCALENDAR
