BEGIN:VCALENDAR
VERSION:2.0
PRODID:-//Library Market//iCal Export//EN
BEGIN:VEVENT
SUMMARY:Pages and Pals (meet in Teen Area)
UID:45134
DTSTAMP:20260420T060900Z
DTSTART:20260718T170000Z
DTEND:20260718T180000Z
LOCATION:Main Library, 201 Cathedral Manor, Bardstown, KY 40004, United St
 ates
ROOM: Storytime Room
DESCRIPTION:
URL:https://www.ncplky.org/event/pages-and-pals-meet-teen-area-45134
END:VEVENT
END:VCALENDAR
