BEGIN:VCALENDAR
VERSION:2.0
PRODID:-//Library Market//iCal Export//EN
BEGIN:VEVENT
SUMMARY:Bourbon City Bark Park
UID:45131
DTSTAMP:20260420T152100Z
DTSTART:20260420T210000Z
DTEND:20260420T220000Z
LOCATION:Main Library, 201 Cathedral Manor, Bardstown, KY 40004, United St
 ates
ROOM: Main Branch - Conference Room
DESCRIPTION:
URL:https://www.ncplky.org/event/bourbon-city-bark-park-45131
END:VEVENT
END:VCALENDAR
