BEGIN:VCALENDAR
VERSION:2.0
PRODID:-//Library Market//iCal Export//EN
BEGIN:VEVENT
SUMMARY:America 250 Book Club
UID:45122
DTSTAMP:20260419T234700Z
DTSTART:20260602T210000Z
DTEND:20260602T220000Z
LOCATION:Bloomfield Branch, 34 Arnold Lane, Bloomfield, KY 40008, United S
 tates
ROOM: America 250 Book Club
DESCRIPTION:2026 marks America’s 250th birthday and NCPL has no shortage
  of celebrations in store! Join the festivities with our short term Americ
 a 250 Book Club, which will run through June and rotate meetings across ou
 r branches. The last selection, The Greatest Generation by Tom Brokaw, wil
 l be available for pick up at the Bloomfield Branch in early May, with the
  discussion happening at the Bloomfield Branch on June 2 at 5 pm. Join us 
 to examine the development of our country through the lens of literature, 
 finishing off with the World War II era.
URL:https://www.ncplky.org/event/america-250-book-club-45122
END:VEVENT
END:VCALENDAR
