BEGIN:VCALENDAR
VERSION:2.0
PRODID:-//Library Market//iCal Export//EN
BEGIN:VEVENT
SUMMARY:Teen Cooking Class (at Nelson County Extension office)
UID:45119
DTSTAMP:20260420T143900Z
DTSTART:20260706T190000Z
DTEND:20260706T203000Z
LOCATION:Main Library, 201 Cathedral Manor, Bardstown, KY 40004, United St
 ates
ROOM: Storytime Room
DESCRIPTION:
URL:https://www.ncplky.org/event/teen-cooking-class-extension-office-45119
END:VEVENT
END:VCALENDAR
