BEGIN:VCALENDAR
VERSION:2.0
PRODID:-//Library Market//iCal Export//EN
BEGIN:VEVENT
SUMMARY:Teen Cooking Class (at Nelson County Extension office)
UID:45117
DTSTAMP:20260420T041100Z
DTSTART:20260615T190000Z
DTEND:20260615T203000Z
LOCATION:Main Library, 201 Cathedral Manor, Bardstown, KY 40004, United St
 ates
ROOM: Teen Cooking Class (at Nelson County Extension office)
DESCRIPTION:
URL:https://www.ncplky.org/event/teen-cooking-class-extension-office-45117
END:VEVENT
END:VCALENDAR
