BEGIN:VCALENDAR
VERSION:2.0
PRODID:-//Library Market//iCal Export//EN
BEGIN:VEVENT
SUMMARY:Teen Volunteers: Help with Children&#039;s Craft Day
UID:45113
DTSTAMP:20260420T065700Z
DTSTART:20260714T183000Z
DTEND:20260714T200000Z
LOCATION:Main Library, 201 Cathedral Manor, Bardstown, KY 40004, United St
 ates
ROOM: Main Branch Community Room #1
DESCRIPTION:
URL:https://www.ncplky.org/event/teen-volunteers-help-childrens-craft-day-
 45113
END:VEVENT
END:VCALENDAR
