BEGIN:VCALENDAR
VERSION:2.0
PRODID:-//Library Market//iCal Export//EN
BEGIN:VEVENT
SUMMARY:Teen Volunteers: Help at STEAM Day Children&#039;s Program
UID:45112
DTSTAMP:20260420T112000Z
DTSTART:20260623T183000Z
DTEND:20260623T200000Z
LOCATION:Main Library, 201 Cathedral Manor, Bardstown, KY 40004, United St
 ates
ROOM: Main Branch - Conference Room
DESCRIPTION:
URL:https://www.ncplky.org/event/teen-volunteers-help-steam-day-childrens-
 program-45112
END:VEVENT
END:VCALENDAR
