BEGIN:VCALENDAR
VERSION:2.0
PRODID:-//Library Market//iCal Export//EN
BEGIN:VEVENT
SUMMARY:JUNETEENTH BOOK CLUB
UID:44515
DTSTAMP:20260420T041100Z
DTSTART:20260612T180000Z
DTEND:20260612T200000Z
LOCATION:Main Library, 201 Cathedral Manor, Bardstown, KY 40004, United St
 ates
ROOM: Main Branch - Community Room #2
DESCRIPTION:
URL:https://www.ncplky.org/event/save-juneteenth-program-44515
END:VEVENT
END:VCALENDAR
