BEGIN:VCALENDAR
VERSION:2.0
PRODID:-//Library Market//iCal Export//EN
BEGIN:VEVENT
SUMMARY:Stephen Foster: The Pennsylvanian Who Became a Kentucky Legend
UID:44514
DTSTAMP:20260420T011400Z
DTSTART:20260613T143000Z
DTEND:20260613T153000Z
LOCATION:Main Library, 201 Cathedral Manor, Bardstown, KY 40004, United St
 ates
ROOM: Main Branch Community Room #1
DESCRIPTION:Residents of Nelson County are familiar with the legends of th
 e “father of American music” Stephen C. Foster visiting Bardstown, whe
 re he was inspired to write some of his most famous songs. In anticipation
  of the 200th anniversary of his birth on July 4, learn about his life, mu
 sic, and legacy from Christopher Lynch, PhD, author of the new book Formul
 ating Foster: Stephen C. Foster and the Creation of a National Musical Myt
 h. Join us on Saturday, June 13, 2026, at 10:30 am in NCPL Main Branch Com
 munity Room #1. Open to ages 18 and up.
URL:https://www.ncplky.org/event/patriotic-embroidery-44514
END:VEVENT
END:VCALENDAR
