BEGIN:VCALENDAR
VERSION:2.0
PRODID:-//Library Market//iCal Export//EN
BEGIN:VEVENT
SUMMARY:Orthopedics in the Community
UID:44513
DTSTAMP:20260419T234700Z
DTSTART:20260603T160000Z
DTEND:20260603T170000Z
LOCATION:Main Library, 201 Cathedral Manor, Bardstown, KY 40004, United St
 ates
ROOM: Main Branch Community Room #1
DESCRIPTION:This June, join local orthopedic surgeons Dr. Sanjiv Mehta and
  Dr. Jeeshan Faridi of Commonspirit Orthopedics for an informative discuss
 ion of total joint replacements and bone and joint health. Meet with us on
  Wednesday, June 3rd, at 12:00 pm, in NCPL Main Branch Community Room #1. 
 Open to ages 18 and up.
URL:https://www.ncplky.org/event/love-letters-america-44513
END:VEVENT
END:VCALENDAR
