BEGIN:VCALENDAR
VERSION:2.0
PRODID:-//Library Market//iCal Export//EN
BEGIN:VEVENT
SUMMARY:On Perseverance: Virtually Unwrapping the Herculaneum Scrolls with
  Dr. Brent Seales
UID:41692
DTSTAMP:20260424T083400Z
DTSTART:20260608T210000Z
DTEND:20260608T223000Z
LOCATION:Main Library, 201 Cathedral Manor, Bardstown, KY 40004, United St
 ates
ROOM: Main Branch Community Room #1
DESCRIPTION:You’ve likely heard of the famous eruption of Mount Vesuvius
  nearly 2000 years ago, but have you heard of the Herculaneum Scrolls? As 
 part of our Unearth A Story themed Summer Reading Program, join us this Ju
 ne for an informative talk with the University of Kentucky’s Dr. Brent S
 eales. Learn not only about the Herculaneum papyrus scrolls, buried and ca
 rbonized by the eruption of Mount Vesuvius in 79 CE and then excavated in 
 the 18th century, but how, with the recent phenomena of big data and machi
 ne learning, these documents could be virtually unwrapped and read for the
  first time in 2000 years. We&#039;ll meet on Monday, June 8, at 5:00 pm, 
 in NCPL Main Branch Community Room #1. Open to ages 18 and up.
URL:https://www.ncplky.org/event/brent-seales-presentation-herculaneum-scr
 olls-41692
END:VEVENT
END:VCALENDAR
